BEGIN:VCALENDAR
VERSION:2.0
PRODID:-//Bouch&#039;s Cigars - ECPv5.1.6//NONSGML v1.0//EN
CALSCALE:GREGORIAN
METHOD:PUBLISH
X-WR-CALNAME:Bouch&#039;s Cigars
X-ORIGINAL-URL:http://bouchs.com
X-WR-CALDESC:Events for Bouch&#039;s Cigars
BEGIN:VTIMEZONE
TZID:UTC
BEGIN:STANDARD
TZOFFSETFROM:+0000
TZOFFSETTO:+0000
TZNAME:UTC
DTSTART:20180101T000000
END:STANDARD
END:VTIMEZONE
BEGIN:VEVENT
DTSTART;TZID=UTC:20180301T100000
DTEND;TZID=UTC:20180301T190000
DTSTAMP:20260424T005854
CREATED:20180208T201637Z
LAST-MODIFIED:20180208T203642Z
UID:3354-1519898400-1519930800@bouchs.com
SUMMARY:5 Year Anniversary Celebration!
DESCRIPTION:Thank you ?; we are grateful for your continuing support of our small\, growing business! 20% OFF all shop items (with limited contractual exceptions)! This includes cigars\, lighters\, cutters\, humidors\, pipe tobacco\, pipes\, etc. Complimentary holiday fare & cheer will be served! \nOscar Valladares of Danli\, Honduras and Houston\, TX\, creator of Leaf by Oscar\, 2012 Series\, Oscar Habano\, & Oscar Maduro will Be our honored guest. \nStop by and allow Jack and I️ to personally thank you!
URL:http://bouchs.com/event/5-year-anniversary-celebration/
LOCATION:Bouch’s Premium Cigars\, Accessories\, & More\, 77 South Section Street\, Fairhope\, AL\, 36532\, United States
ATTACH;FMTTYPE=image/jpeg:http://bouchs.com/wp-content/uploads/2018/02/25348515_1849213352037412_1974592651628095286_n.jpg
ORGANIZER;CN="Bouch%27s":MAILTO:gene@bouchs.com
END:VEVENT
END:VCALENDAR