BEGIN:VCALENDAR
VERSION:2.0
PRODID:-//Bouch&#039;s Cigars - ECPv5.1.6//NONSGML v1.0//EN
CALSCALE:GREGORIAN
METHOD:PUBLISH
X-WR-CALNAME:Bouch&#039;s Cigars
X-ORIGINAL-URL:http://bouchs.com
X-WR-CALDESC:Events for Bouch&#039;s Cigars
BEGIN:VTIMEZONE
TZID:America/Chicago
BEGIN:DAYLIGHT
TZOFFSETFROM:-0600
TZOFFSETTO:-0500
TZNAME:CDT
DTSTART:20190310T080000
END:DAYLIGHT
BEGIN:STANDARD
TZOFFSETFROM:-0500
TZOFFSETTO:-0600
TZNAME:CST
DTSTART:20191103T070000
END:STANDARD
END:VTIMEZONE
BEGIN:VEVENT
DTSTART;TZID=America/Chicago:20190809T170000
DTEND;TZID=America/Chicago:20190809T190000
DTSTAMP:20260423T171254
CREATED:20190802T153823Z
LAST-MODIFIED:20190809T000522Z
UID:3573-1565370000-1565377200@bouchs.com
SUMMARY:Ashton Bouch's Premium Cigars
DESCRIPTION:Gene “Bouch” Bouchillon\, Purveyor Bouch’s Premium Cigars\, Accessories\, & More \nTicket price: $20 \n77 South Section Street Fairhope\, \nAL  36532. \nStore:  251.517.9526 \ncell:  251.978.7734
URL:http://bouchs.com/event/ashton-bouchs-premium-cigars/
LOCATION:Bouch’s Premium Cigars\, Accessories\, & More\, 77 South Section Street\, Fairhope\, AL\, 36532\, United States
ATTACH;FMTTYPE=image/jpeg:http://bouchs.com/wp-content/uploads/2019/08/Bouchs-Premium-Cigars.jpeg
END:VEVENT
END:VCALENDAR