BEGIN:VCALENDAR
VERSION:2.0
PRODID:-//Bouch&#039;s Cigars - ECPv5.1.6//NONSGML v1.0//EN
CALSCALE:GREGORIAN
METHOD:PUBLISH
X-WR-CALNAME:Bouch&#039;s Cigars
X-ORIGINAL-URL:http://bouchs.com
X-WR-CALDESC:Events for Bouch&#039;s Cigars
BEGIN:VTIMEZONE
TZID:UTC
BEGIN:STANDARD
TZOFFSETFROM:+0000
TZOFFSETTO:+0000
TZNAME:UTC
DTSTART:20180101T000000
END:STANDARD
END:VTIMEZONE
BEGIN:VEVENT
DTSTART;VALUE=DATE:20181215
DTEND;VALUE=DATE:20181216
DTSTAMP:20260423T232645
CREATED:20181214T181450Z
LAST-MODIFIED:20181214T181659Z
UID:3530-1544832000-1544918399@bouchs.com
SUMMARY:Bouch's 6th anniversary customer appreciation and special guest Anthony Gomez of LFD
DESCRIPTION:Anthony “Tony” Gomez of Santiago\, Dominican Republic and of La Flor Dominicana Cigars will be our honored guest for our 6th Anniversary Celebration this Saturday from 11:00am – 5:00pm. (Alert: Tony is the 6 foot 7 younger guy; I am the 5 foot 6 older guy!) LFD is the creator of “Cigar Aficionada’s 2017 Best Cigar of the World .. the Andalusian Bull!” Currently\, it is one of the most difficult cigars in the world to source; however\, Tony shipped us 11 boxes for our anniversary. Limit of one per customer so many can taste this gem. \n\nJack\, the Facilitator\, will have his grill burning and will cook burgers with all the fixin’s for our customers. Stop by and meet Tony and help us celebrate our 6th Anniversary! \nAnd that’s not all … in honor of Tony and of our positive relationships with the Gomez family\, we will have special prices on purchases of the LFD cigars: \nBuy $50 of LFD cigars and you’ll get a 10% discount & 1 free cigar \nBuy $100 of LFD cigars and you’ll get a 15% discount & 2 free cigars \nBuy $150 of LFD cigars and you’ll get a 20% discount & 3 free cigars \nFor you\, our customers and friends\, we are grateful. 2018 has been another record breaking year for our small\, local business! And\, because of your generosity\, in May we donated $18\,000 to Prodisee Pantry\, our local food bank\, from the proceeds of our inaugural “Balls & Butts Golf Tournament;” you have YTD donated 3\,027 premium cigars to our military heroes through Cigars for Warriors\, a $22\,000 MSRP gift; and last week we donated a gift of $1\,500 to The Haven\, our local animal shelter\, in memory and honor of our shop dog\, Beau. \nWe are more than a cigar shop … we are a community of loyal\, supportive friends. Happy Holidays to all!
URL:http://bouchs.com/event/bouchs-6th-anniversary-customer-appreciation-and-special-guest-anthony-gomez-of-lfd/
LOCATION:Bouch’s Premium Cigars\, Accessories\, & More\, 77 South Section Street\, Fairhope\, AL\, 36532\, United States
ORGANIZER;CN="Bouch%27s":MAILTO:gene@bouchs.com
END:VEVENT
END:VCALENDAR