BEGIN:VCALENDAR
VERSION:2.0
PRODID:-//Bouch&#039;s Cigars - ECPv5.1.6//NONSGML v1.0//EN
CALSCALE:GREGORIAN
METHOD:PUBLISH
X-WR-CALNAME:Bouch&#039;s Cigars
X-ORIGINAL-URL:http://bouchs.com
X-WR-CALDESC:Events for Bouch&#039;s Cigars
BEGIN:VTIMEZONE
TZID:UTC
BEGIN:STANDARD
TZOFFSETFROM:+0000
TZOFFSETTO:+0000
TZNAME:UTC
DTSTART:20180101T000000
END:STANDARD
END:VTIMEZONE
BEGIN:VEVENT
DTSTART;TZID=UTC:20180315T180000
DTEND;TZID=UTC:20180315T200000
DTSTAMP:20260423T232609
CREATED:20180208T201815Z
LAST-MODIFIED:20180208T203705Z
UID:3356-1521136800-1521144000@bouchs.com
SUMMARY:Dinner Event / My Father Cigars at The Venue\, Thursday.
DESCRIPTION:Dinner event hosting My Father Cigars of Esteli\, Nicaragua and Miami\, FL. 20% OFF on all boxes of My Father Cigars. $30 event ticket includes full dinner: Steamship round of beef\, mixed vegetables\, roasted potatoes\, rolls\, complimentary red and white wines\, complimentary beer\, a My Father cigar selected by Joaquin Saladrigas of Miami\, and a raffle ticket.
URL:http://bouchs.com/event/dinner-event-my-father-cigars-at-the-venue-thursday/
LOCATION:Bouch’s Premium Cigars\, Accessories\, & More\, 77 South Section Street\, Fairhope\, AL\, 36532\, United States
ATTACH;FMTTYPE=image/jpeg:http://bouchs.com/wp-content/uploads/2018/02/22405442_874224246076236_3513524555262102904_n.jpg
ORGANIZER;CN="Bouch%27s":MAILTO:gene@bouchs.com
END:VEVENT
END:VCALENDAR