BEGIN:VCALENDAR
VERSION:2.0
PRODID:-//Bouch&#039;s Cigars - ECPv5.1.6//NONSGML v1.0//EN
CALSCALE:GREGORIAN
METHOD:PUBLISH
X-WR-CALNAME:Bouch&#039;s Cigars
X-ORIGINAL-URL:http://bouchs.com
X-WR-CALDESC:Events for Bouch&#039;s Cigars
BEGIN:VTIMEZONE
TZID:UTC
BEGIN:STANDARD
TZOFFSETFROM:+0000
TZOFFSETTO:+0000
TZNAME:UTC
DTSTART:20180101T000000
END:STANDARD
END:VTIMEZONE
BEGIN:VEVENT
DTSTART;TZID=UTC:20180903T100000
DTEND;TZID=UTC:20180903T170000
DTSTAMP:20260424T022401
CREATED:20180821T151745Z
LAST-MODIFIED:20180821T151745Z
UID:3475-1535968800-1535994000@bouchs.com
SUMMARY:Labor Day Customer Appreciation Cigar-B-Que.
DESCRIPTION:This will be a pot luck Cigar-B-Que with entrees prepared by Jack “The Facilitator” Milstead on his smoker and grill.  Special Labor Day Deal – Buy any 4 Nat Sherman cigars and receive a 5th cigar of equal or lesser value at No Charge.
URL:http://bouchs.com/event/labor-day-customer-appreciation-cigar-b-que/
LOCATION:Bouch’s Premium Cigars\, Accessories\, & More\, 77 South Section Street\, Fairhope\, AL\, 36532\, United States
ORGANIZER;CN="Bouch%27s":MAILTO:gene@bouchs.com
END:VEVENT
END:VCALENDAR