BEGIN:VCALENDAR
VERSION:2.0
PRODID:-//Bouch&#039;s Cigars - ECPv5.1.6//NONSGML v1.0//EN
CALSCALE:GREGORIAN
METHOD:PUBLISH
X-WR-CALNAME:Bouch&#039;s Cigars
X-ORIGINAL-URL:http://bouchs.com
X-WR-CALDESC:Events for Bouch&#039;s Cigars
BEGIN:VTIMEZONE
TZID:UTC
BEGIN:STANDARD
TZOFFSETFROM:+0000
TZOFFSETTO:+0000
TZNAME:UTC
DTSTART:20180101T000000
END:STANDARD
END:VTIMEZONE
BEGIN:VEVENT
DTSTART;TZID=UTC:20180209T173000
DTEND;TZID=UTC:20180209T203000
DTSTAMP:20260424T022205
CREATED:20180208T201440Z
LAST-MODIFIED:20180208T201458Z
UID:3349-1518197400-1518208200@bouchs.com
SUMMARY:Loyal Order of Water Buffaloes Mardi Gras Party for "CFW"
DESCRIPTION:Bouch’s Courtyard – 5:30pm\, \n Friday: Cigars for Warriors: Loyal Order of the Water Buffaloes\, Lodge 23\, Mardi Gras celebration. Members\,  \n$5 & 1 premium cigar donation to Cigars for Wars; Non-Members (Pledges)\, \n $5 & 4-Pak premium cigars donation to Cigars for Warriors. Initiation rituals to this elite Order to be supervised by Joe Tetro\, Dr. Ron Schindler\, and Mickey Finn. Complimentary Refreshments & Libations provided. \n 6:45pm – Maids of Jubilee Mardi Gras Parade.
URL:http://bouchs.com/event/loyal-order-of-water-buffaloes-mardi-gras-party-for-cfw/
LOCATION:Bouch’s Premium Cigars\, Accessories\, & More\, 77 South Section Street\, Fairhope\, AL\, 36532\, United States
ATTACH;FMTTYPE=image/jpeg:http://bouchs.com/wp-content/uploads/2018/02/27540276_936089879889672_67226771847978917_n.jpg
ORGANIZER;CN="Bouch%27s":MAILTO:gene@bouchs.com
END:VEVENT
END:VCALENDAR