BEGIN:VCALENDAR
VERSION:2.0
PRODID:-//Bouch&#039;s Cigars - ECPv5.1.6//NONSGML v1.0//EN
CALSCALE:GREGORIAN
METHOD:PUBLISH
X-WR-CALNAME:Bouch&#039;s Cigars
X-ORIGINAL-URL:http://bouchs.com
X-WR-CALDESC:Events for Bouch&#039;s Cigars
BEGIN:VTIMEZONE
TZID:UTC
BEGIN:STANDARD
TZOFFSETFROM:+0000
TZOFFSETTO:+0000
TZNAME:UTC
DTSTART:20190101T000000
END:STANDARD
END:VTIMEZONE
BEGIN:VEVENT
DTSTART;TZID=UTC:20190301T170000
DTEND;TZID=UTC:20190301T200000
DTSTAMP:20260423T203250
CREATED:20190227T171931Z
LAST-MODIFIED:20190227T171931Z
UID:3553-1551459600-1551470400@bouchs.com
SUMMARY:Third annual LOWBCS Mardi Gras Cocktail gathering to support Cigars for Warriors
DESCRIPTION:Third annual LOWBCS Mardi Gras Cocktail gathering to support Cigars for Warriors. \nMarch 1st prior to the evenings parade (aprox 5pm) \nRed Beans \nCrawfish \nDesserts \nTasty Beverages \nMusic & Fellowship \nEvent cost is $20.00 to pay for food\, decorations\, beads\, etc. Three premium cigars for our soldiers overseas. Please bring your hats and a friend to get initiated in to the Lodge. \nLook forward to seeing everyone there. \nClick here to Sign up!
URL:http://bouchs.com/event/third-annual-lowbcs-mardi-gras-cocktail-gathering-to-support-cigars-for-warriors/
LOCATION:Bouch’s Premium Cigars\, Accessories\, & More\, 77 South Section Street\, Fairhope\, AL\, 36532\, United States
ATTACH;FMTTYPE=image/jpeg:http://bouchs.com/wp-content/uploads/2019/02/52896812_10156793208867911_6311148107224580096_n.jpg
ORGANIZER;CN="Bouch%27s":MAILTO:gene@bouchs.com
END:VEVENT
END:VCALENDAR